BEGIN:VCALENDAR
VERSION:2.0
PRODID:-//Manchester Historical Society - ECPv6.15.20//NONSGML v1.0//EN
CALSCALE:GREGORIAN
METHOD:PUBLISH
X-WR-CALNAME:Manchester Historical Society
X-ORIGINAL-URL:https://manchesterhistory.org
X-WR-CALDESC:Events for Manchester Historical Society
REFRESH-INTERVAL;VALUE=DURATION:PT1H
X-Robots-Tag:noindex
X-PUBLISHED-TTL:PT1H
BEGIN:VTIMEZONE
TZID:America/New_York
BEGIN:DAYLIGHT
TZOFFSETFROM:-0500
TZOFFSETTO:-0400
TZNAME:EDT
DTSTART:20250309T070000
END:DAYLIGHT
BEGIN:STANDARD
TZOFFSETFROM:-0400
TZOFFSETTO:-0500
TZNAME:EST
DTSTART:20251102T060000
END:STANDARD
BEGIN:DAYLIGHT
TZOFFSETFROM:-0500
TZOFFSETTO:-0400
TZNAME:EDT
DTSTART:20260308T070000
END:DAYLIGHT
BEGIN:STANDARD
TZOFFSETFROM:-0400
TZOFFSETTO:-0500
TZNAME:EST
DTSTART:20261101T060000
END:STANDARD
BEGIN:DAYLIGHT
TZOFFSETFROM:-0500
TZOFFSETTO:-0400
TZNAME:EDT
DTSTART:20270314T070000
END:DAYLIGHT
BEGIN:STANDARD
TZOFFSETFROM:-0400
TZOFFSETTO:-0500
TZNAME:EST
DTSTART:20271107T060000
END:STANDARD
END:VTIMEZONE
BEGIN:VEVENT
DTSTART;TZID=America/New_York:20260503T130000
DTEND;TZID=America/New_York:20260503T141500
DTSTAMP:20260421T033617
CREATED:20260123T201349Z
LAST-MODIFIED:20260309T134534Z
UID:6578-1777813200-1777817700@manchesterhistory.org
SUMMARY:"Judging Washington and Jefferson Today "
DESCRIPTION:Our 250th birthday commemoration features a lecture series reflecting on our country’s origins\, the desire for independence\, and the struggles encountered by patriots and loyalists. Attorney Malcolm Barlow will present the history of two of our founding leaders\, and whether their heroic reputations still survive. Preview of his talk here.
URL:https://manchesterhistory.org/event/judging-washington-and-jefferson-today-by-malcolm-barlow/
LOCATION:Manchester History Center\, 175 Pine Street\, Manchester\, 06040\, United States
CATEGORIES:Historical Society,History Center,Lectures/Presentations
ATTACH;FMTTYPE=image/jpeg:https://cdn.manchesterhistory.org/wp-content/uploads/2026/01/23150914/ImageDeclarSteveFor6-14-26.jpg
ORGANIZER;CN="Susan Barlow":MAILTO:newsletter@manchesterhistory.org
END:VEVENT
BEGIN:VEVENT
DTSTART;TZID=America/New_York:20260614T130000
DTEND;TZID=America/New_York:20260614T141500
DTSTAMP:20260421T033617
CREATED:20260123T200958Z
LAST-MODIFIED:20260309T134322Z
UID:6575-1781442000-1781446500@manchesterhistory.org
SUMMARY:"Making war before the War"
DESCRIPTION:When did the Revolutionary War begin? You may be surprised by the answer. Attorney Steve Penny will present his research on the events leading up to the Revolutionary War and the Declaration of Independence. See preview here. Part of our 250th birthday commemoration lecture series reflecting on our country’s origins\, the desire for independence\, and the struggles encountered by patriots and loyalists.
URL:https://manchesterhistory.org/event/making-war-before-the-war-by-steve-penny/
LOCATION:Manchester History Center\, 175 Pine Street\, Manchester\, 06040\, United States
CATEGORIES:Historical Society,History Center,Lectures/Presentations
ATTACH;FMTTYPE=image/jpeg:https://cdn.manchesterhistory.org/wp-content/uploads/2026/01/23150914/ImageDeclarSteveFor6-14-26.jpg
ORGANIZER;CN="Susan Barlow":MAILTO:newsletter@manchesterhistory.org
END:VEVENT
END:VCALENDAR