BEGIN:VCALENDAR
VERSION:2.0
PRODID:-//Manchester Historical Society - ECPv6.15.20//NONSGML v1.0//EN
CALSCALE:GREGORIAN
METHOD:PUBLISH
X-WR-CALNAME:Manchester Historical Society
X-ORIGINAL-URL:https://manchesterhistory.org
X-WR-CALDESC:Events for Manchester Historical Society
REFRESH-INTERVAL;VALUE=DURATION:PT1H
X-Robots-Tag:noindex
X-PUBLISHED-TTL:PT1H
BEGIN:VTIMEZONE
TZID:America/New_York
BEGIN:DAYLIGHT
TZOFFSETFROM:-0500
TZOFFSETTO:-0400
TZNAME:EDT
DTSTART:20250309T070000
END:DAYLIGHT
BEGIN:STANDARD
TZOFFSETFROM:-0400
TZOFFSETTO:-0500
TZNAME:EST
DTSTART:20251102T060000
END:STANDARD
BEGIN:DAYLIGHT
TZOFFSETFROM:-0500
TZOFFSETTO:-0400
TZNAME:EDT
DTSTART:20260308T070000
END:DAYLIGHT
BEGIN:STANDARD
TZOFFSETFROM:-0400
TZOFFSETTO:-0500
TZNAME:EST
DTSTART:20261101T060000
END:STANDARD
BEGIN:DAYLIGHT
TZOFFSETFROM:-0500
TZOFFSETTO:-0400
TZNAME:EDT
DTSTART:20270314T070000
END:DAYLIGHT
BEGIN:STANDARD
TZOFFSETFROM:-0400
TZOFFSETTO:-0500
TZNAME:EST
DTSTART:20271107T060000
END:STANDARD
END:VTIMEZONE
BEGIN:VEVENT
DTSTART;TZID=America/New_York:20260502T130000
DTEND;TZID=America/New_York:20260502T143000
DTSTAMP:20260422T110046
CREATED:20260112T161741Z
LAST-MODIFIED:20260121T004153Z
UID:6517-1777726800-1777732200@manchesterhistory.org
SUMMARY:"Jane's Walk"
DESCRIPTION:Free community-conversation walk led by Jessee Muñiz-Poland\, town board member\, and Susan Barlow\, town historian\, this approximately one-mile walk invites us to discuss our experiences of living and working in Manchester. We will visit the History Center after the walk. Inspired by community activist Jane Jacobs\, Jane’s Walk is a global festival of volunteer-led walking conversations. Jane Jacobs (1916-2006) was a writer and activist who championed a community-based approach to city-building. Her 1961 book\, The Death and Life of Great American Cities\, introduced ground-breaking ideas about how cities function\, evolve\, and fail. Jacobs lived in Greenwich Village and opposed Robert Moses’s plan to build a highway through Washington Square Park. She moved to Toronto in 1968. More https://janeswalk.org/wp-content/uploads/2023/04/Jane-Jacobs-Ten-big-Ideas.pdf
URL:https://manchesterhistory.org/event/janes-walk/
LOCATION:146 Hartford Road\, Manchester\, 146 Hartford Rd\, Manchester\, CT\, 06040\, United States
CATEGORIES:Walking Tours
ATTACH;FMTTYPE=image/jpeg:https://cdn.manchesterhistory.org/wp-content/uploads/2024/01/09104405/JanesWalkLogo.jpg
ORGANIZER;CN="Susan Barlow":MAILTO:newsletter@manchesterhistory.org
END:VEVENT
END:VCALENDAR