BEGIN:VCALENDAR
VERSION:2.0
PRODID:-//Manchester Historical Society - ECPv6.15.20//NONSGML v1.0//EN
CALSCALE:GREGORIAN
METHOD:PUBLISH
X-ORIGINAL-URL:https://manchesterhistory.org
X-WR-CALDESC:Events for Manchester Historical Society
REFRESH-INTERVAL;VALUE=DURATION:PT1H
X-Robots-Tag:noindex
X-PUBLISHED-TTL:PT1H
BEGIN:VTIMEZONE
TZID:America/New_York
BEGIN:DAYLIGHT
TZOFFSETFROM:-0500
TZOFFSETTO:-0400
TZNAME:EDT
DTSTART:20250309T070000
END:DAYLIGHT
BEGIN:STANDARD
TZOFFSETFROM:-0400
TZOFFSETTO:-0500
TZNAME:EST
DTSTART:20251102T060000
END:STANDARD
BEGIN:DAYLIGHT
TZOFFSETFROM:-0500
TZOFFSETTO:-0400
TZNAME:EDT
DTSTART:20260308T070000
END:DAYLIGHT
BEGIN:STANDARD
TZOFFSETFROM:-0400
TZOFFSETTO:-0500
TZNAME:EST
DTSTART:20261101T060000
END:STANDARD
BEGIN:DAYLIGHT
TZOFFSETFROM:-0500
TZOFFSETTO:-0400
TZNAME:EDT
DTSTART:20270314T070000
END:DAYLIGHT
BEGIN:STANDARD
TZOFFSETFROM:-0400
TZOFFSETTO:-0500
TZNAME:EST
DTSTART:20271107T060000
END:STANDARD
END:VTIMEZONE
BEGIN:VEVENT
DTSTART;TZID=America/New_York:20261114T130000
DTEND;TZID=America/New_York:20261114T143000
DTSTAMP:20260421T172022
CREATED:20260118T124707Z
LAST-MODIFIED:20260118T124707Z
UID:6556-1794661200-1794666600@manchesterhistory.org
SUMMARY:North End history walk
DESCRIPTION:Explore the charm of the old North End\, viewing what remains from Urban Renewal of the 1960s. We’ll visit Whiton Library\, the “Y\,” Apel’s Opera House (pictured)\, Woodbridge and Hudson Streets. About one mile along streets and sidewalks. Rain or shine. Extreme weather cancels. We’ll meet at the front steps of the Whiton Library. Park either in the library lot or along Old North Main Street. Free.
URL:https://manchesterhistory.org/event/north-end-history-walk-2/
LOCATION:Whiton Library\, 100 North Main St.\, 100 North Main St.\, Manchester\, CONNECTICUT\, 06042
CATEGORIES:Walking Tours
ATTACH;FMTTYPE=image/jpeg:https://cdn.manchesterhistory.org/wp-content/uploads/2024/12/27144037/DrawingApelOpHsFrmStryTelBk.jpg
ORGANIZER;CN="Susan Barlow":MAILTO:newsletter@manchesterhistory.org
END:VEVENT
END:VCALENDAR