BEGIN:VCALENDAR
VERSION:2.0
PRODID:-//Manchester Historical Society - ECPv6.15.20//NONSGML v1.0//EN
CALSCALE:GREGORIAN
METHOD:PUBLISH
X-ORIGINAL-URL:https://manchesterhistory.org
X-WR-CALDESC:Events for Manchester Historical Society
REFRESH-INTERVAL;VALUE=DURATION:PT1H
X-Robots-Tag:noindex
X-PUBLISHED-TTL:PT1H
BEGIN:VTIMEZONE
TZID:America/New_York
BEGIN:DAYLIGHT
TZOFFSETFROM:-0500
TZOFFSETTO:-0400
TZNAME:EDT
DTSTART:20250309T070000
END:DAYLIGHT
BEGIN:STANDARD
TZOFFSETFROM:-0400
TZOFFSETTO:-0500
TZNAME:EST
DTSTART:20251102T060000
END:STANDARD
BEGIN:DAYLIGHT
TZOFFSETFROM:-0500
TZOFFSETTO:-0400
TZNAME:EDT
DTSTART:20260308T070000
END:DAYLIGHT
BEGIN:STANDARD
TZOFFSETFROM:-0400
TZOFFSETTO:-0500
TZNAME:EST
DTSTART:20261101T060000
END:STANDARD
BEGIN:DAYLIGHT
TZOFFSETFROM:-0500
TZOFFSETTO:-0400
TZNAME:EDT
DTSTART:20270314T070000
END:DAYLIGHT
BEGIN:STANDARD
TZOFFSETFROM:-0400
TZOFFSETTO:-0500
TZNAME:EST
DTSTART:20271107T060000
END:STANDARD
END:VTIMEZONE
BEGIN:VEVENT
DTSTART;TZID=America/New_York:20260110T130000
DTEND;TZID=America/New_York:20260110T150000
DTSTAMP:20260421T111007
CREATED:20251125T183431Z
LAST-MODIFIED:20251125T183647Z
UID:6391-1768050000-1768057200@manchesterhistory.org
SUMMARY:Cheney Railroad history walk
DESCRIPTION:Hikers will trace the route of the former railroad\, built in 1869 to connect the Cheney silk mills to the main rail line in the North End. At 2.5 miles\, it was the shortest private freight-and-passenger railroad in the United States. We will start our hike in the South End\, heading north toward Center Springs Park. We will see the foot-bridge over Bigelow Brook. Some of the hike will be along roads\, and some along the rail trail. About 3 miles round trip. Extreme weather cancels. No dogs\, please. Free. C. 1900 photo of the South End depot.
URL:https://manchesterhistory.org/event/cheney-railroad-history-walk-2/
LOCATION:146 Hartford Road\, Manchester\, 146 Hartford Rd\, Manchester\, CT\, 06040\, United States
CATEGORIES:Walking Tours
ATTACH;FMTTYPE=image/jpeg:https://cdn.manchesterhistory.org/wp-content/uploads/2024/12/03073338/SMRRDepotHorizForWebSite.jpg
ORGANIZER;CN="Susan Barlow":MAILTO:newsletter@manchesterhistory.org
END:VEVENT
END:VCALENDAR