BEGIN:VCALENDAR
VERSION:2.0
PRODID:-//Manchester Historical Society - ECPv6.15.20//NONSGML v1.0//EN
CALSCALE:GREGORIAN
METHOD:PUBLISH
X-WR-CALNAME:Manchester Historical Society
X-ORIGINAL-URL:https://manchesterhistory.org
X-WR-CALDESC:Events for Manchester Historical Society
REFRESH-INTERVAL;VALUE=DURATION:PT1H
X-Robots-Tag:noindex
X-PUBLISHED-TTL:PT1H
BEGIN:VTIMEZONE
TZID:America/New_York
BEGIN:DAYLIGHT
TZOFFSETFROM:-0500
TZOFFSETTO:-0400
TZNAME:EDT
DTSTART:20250309T070000
END:DAYLIGHT
BEGIN:STANDARD
TZOFFSETFROM:-0400
TZOFFSETTO:-0500
TZNAME:EST
DTSTART:20251102T060000
END:STANDARD
BEGIN:DAYLIGHT
TZOFFSETFROM:-0500
TZOFFSETTO:-0400
TZNAME:EDT
DTSTART:20260308T070000
END:DAYLIGHT
BEGIN:STANDARD
TZOFFSETFROM:-0400
TZOFFSETTO:-0500
TZNAME:EST
DTSTART:20261101T060000
END:STANDARD
BEGIN:DAYLIGHT
TZOFFSETFROM:-0500
TZOFFSETTO:-0400
TZNAME:EDT
DTSTART:20270314T070000
END:DAYLIGHT
BEGIN:STANDARD
TZOFFSETFROM:-0400
TZOFFSETTO:-0500
TZNAME:EST
DTSTART:20271107T060000
END:STANDARD
END:VTIMEZONE
BEGIN:VEVENT
DTSTART;TZID=America/New_York:20260101T130000
DTEND;TZID=America/New_York:20260101T143000
DTSTAMP:20260421T110807
CREATED:20251231T130704Z
LAST-MODIFIED:20251231T130704Z
UID:6403-1767272400-1767277800@manchesterhistory.org
SUMMARY:POSTPONED! New Year's Day walk on the Great Lawn
DESCRIPTION:Due to severe weather predictions\, we are postponing this walk. This free history walk features the “Great Lawn” and proceeds along streets and lawn to view historic mansions and the nine acres purchased by the Town in 2005 for open space and historic preservation. Cheney district commission members Tom Ferguson and Susan Barlow will comment on the historic landscape and buildings. There is some steep and uneven ground\, so participants should wear sturdy shoes or boots. Extreme weather cancels\, but the walk will be held in light rain or snow flurries\, so please bring an umbrella.
URL:https://manchesterhistory.org/event/postponed-new-years-day-walk-on-the-great-lawn/
LOCATION:146 Hartford Road\, Manchester\, 146 Hartford Rd\, Manchester\, CT\, 06040\, United States
CATEGORIES:Walking Tours
ATTACH;FMTTYPE=image/jpeg:https://cdn.manchesterhistory.org/wp-content/uploads/2024/03/15134825/IMG_6890-scaled.jpg
ORGANIZER;CN="Susan Barlow":MAILTO:newsletter@manchesterhistory.org
END:VEVENT
END:VCALENDAR