BEGIN:VCALENDAR
VERSION:2.0
PRODID:-//Manchester Historical Society - ECPv6.15.20//NONSGML v1.0//EN
CALSCALE:GREGORIAN
METHOD:PUBLISH
X-WR-CALNAME:Manchester Historical Society
X-ORIGINAL-URL:https://manchesterhistory.org
X-WR-CALDESC:Events for Manchester Historical Society
REFRESH-INTERVAL;VALUE=DURATION:PT1H
X-Robots-Tag:noindex
X-PUBLISHED-TTL:PT1H
BEGIN:VTIMEZONE
TZID:America/New_York
BEGIN:DAYLIGHT
TZOFFSETFROM:-0500
TZOFFSETTO:-0400
TZNAME:EDT
DTSTART:20240310T070000
END:DAYLIGHT
BEGIN:STANDARD
TZOFFSETFROM:-0400
TZOFFSETTO:-0500
TZNAME:EST
DTSTART:20241103T060000
END:STANDARD
BEGIN:DAYLIGHT
TZOFFSETFROM:-0500
TZOFFSETTO:-0400
TZNAME:EDT
DTSTART:20250309T070000
END:DAYLIGHT
BEGIN:STANDARD
TZOFFSETFROM:-0400
TZOFFSETTO:-0500
TZNAME:EST
DTSTART:20251102T060000
END:STANDARD
BEGIN:DAYLIGHT
TZOFFSETFROM:-0500
TZOFFSETTO:-0400
TZNAME:EDT
DTSTART:20260308T070000
END:DAYLIGHT
BEGIN:STANDARD
TZOFFSETFROM:-0400
TZOFFSETTO:-0500
TZNAME:EST
DTSTART:20261101T060000
END:STANDARD
END:VTIMEZONE
BEGIN:VEVENT
DTSTART;TZID=America/New_York:20250712T130000
DTEND;TZID=America/New_York:20250712T153000
DTSTAMP:20260425T233803
CREATED:20250330T211425Z
LAST-MODIFIED:20250330T211425Z
UID:6115-1752325200-1752334200@manchesterhistory.org
SUMMARY:Charcoal hike at Highland Park
DESCRIPTION:Strenuous 4.25-mile walk over rough terrain to visit a charcoal mound on the east side of Case Mountain. We will also visit the Adirondack-style summer house at Upper Case Pond\, and hikers can choose to end their hike without the charcoal visit. That option would cover about one mile. More charcoal info here. Meet at the kiosk in the parking lot on Birch Mountain Road\, near its intersection with Camp Meeting Road\, across from West Carter Street. Closest GPS is 78 Birch Mountain Road\, Manchester.
URL:https://manchesterhistory.org/event/charcoal-hike-at-highland-park/
LOCATION:Birch Mountain Road parking lot\, 78 Birch Mountain Road\, Manchester\, CONNECTICUT
CATEGORIES:Walking Tours
ATTACH;FMTTYPE=image/jpeg:https://cdn.manchesterhistory.org/wp-content/uploads/2025/03/30171246/1946Map.jpg
ORGANIZER;CN="Susan Barlow":MAILTO:newsletter@manchesterhistory.org
END:VEVENT
BEGIN:VEVENT
DTSTART;TZID=America/New_York:20250713T140000
DTEND;TZID=America/New_York:20250713T153000
DTSTAMP:20260425T233803
CREATED:20250526T102518Z
LAST-MODIFIED:20250526T103858Z
UID:6213-1752415200-1752420600@manchesterhistory.org
SUMMARY:Tour of West Cemetery
DESCRIPTION:Walking tour plus stone-cleaning demonstration at the West Cemetery\, which was laid out in 1740\, when the land was part of East Hartford. It became part of Manchester in 1823\, and is our first cemetery. It’s located on Spencer Street near the entrance ramp to I-384\, accessible just beyond the I-384 on-ramp\, which enters the cemetery’s northwest corner on the right. Park either at the commuter lot\, or drive into the cemetery. Gravestone Network founder\, Ruth Shapleigh-Brown\, says\,  “The families buried here have connections and history that go back to our early settlement times and the Revolutionary era. In a listing done by Mrs. Kingsbury in the 1930’s\, here are totals of family members buried here: • Forbes\, 13\, • Bidwell\, 13\, • Brewer\, 11\, • Kennedy\, 26\, • Keeney\, 46\, • Olcott\, 30\, • Spencer\, 74\, • Marsh\, 16\, • Case\, 21\, •Hills – the winner with 130.” Co-sponsored by the Historical Societies of East Hartford and Manchester.
URL:https://manchesterhistory.org/event/tour-of-west-cemetery/
LOCATION:271 Spencer Street\, Manchester ct\, 271 Spencer St\, Manchester\, 06040\, United States
CATEGORIES:Walking Tours
ATTACH;FMTTYPE=image/jpeg:https://cdn.manchesterhistory.org/wp-content/uploads/2025/05/26063555/IMG_7922-scaled.jpg
ORGANIZER;CN="Susan Barlow":MAILTO:newsletter@manchesterhistory.org
END:VEVENT
END:VCALENDAR