BEGIN:VCALENDAR
VERSION:2.0
PRODID:-//Manchester Historical Society - ECPv6.15.20//NONSGML v1.0//EN
CALSCALE:GREGORIAN
METHOD:PUBLISH
X-ORIGINAL-URL:https://manchesterhistory.org
X-WR-CALDESC:Events for Manchester Historical Society
REFRESH-INTERVAL;VALUE=DURATION:PT1H
X-Robots-Tag:noindex
X-PUBLISHED-TTL:PT1H
BEGIN:VTIMEZONE
TZID:America/New_York
BEGIN:DAYLIGHT
TZOFFSETFROM:-0500
TZOFFSETTO:-0400
TZNAME:EDT
DTSTART:20250309T070000
END:DAYLIGHT
BEGIN:STANDARD
TZOFFSETFROM:-0400
TZOFFSETTO:-0500
TZNAME:EST
DTSTART:20251102T060000
END:STANDARD
BEGIN:DAYLIGHT
TZOFFSETFROM:-0500
TZOFFSETTO:-0400
TZNAME:EDT
DTSTART:20260308T070000
END:DAYLIGHT
BEGIN:STANDARD
TZOFFSETFROM:-0400
TZOFFSETTO:-0500
TZNAME:EST
DTSTART:20261101T060000
END:STANDARD
BEGIN:DAYLIGHT
TZOFFSETFROM:-0500
TZOFFSETTO:-0400
TZNAME:EDT
DTSTART:20270314T070000
END:DAYLIGHT
BEGIN:STANDARD
TZOFFSETFROM:-0400
TZOFFSETTO:-0500
TZNAME:EST
DTSTART:20271107T060000
END:STANDARD
END:VTIMEZONE
BEGIN:VEVENT
DTSTART;TZID=America/New_York:20260524T130000
DTEND;TZID=America/New_York:20260524T141500
DTSTAMP:20260421T040030
CREATED:20260128T181636Z
LAST-MODIFIED:20260128T181636Z
UID:6588-1779627600-1779632100@manchesterhistory.org
SUMMARY:“What the Founding Fathers Would Say to Americans in 2026”
DESCRIPTION:A talk by Manchester Historical Society president and CCSU professor\, Steve Armstrong. The Founding Fathers expressed great fears that the system of government they created might not last.  In this session we will analyze what the Founding Fathers might have said to Americans today and what solutions they might have offered.
URL:https://manchesterhistory.org/event/what-the-founding-fathers-would-say-to-americans-in-2026/
LOCATION:Manchester History Center\, 175 Pine Street\, Manchester\, 06040\, United States
CATEGORIES:History Center,Lectures/Presentations
ATTACH;FMTTYPE=image/jpeg:https://cdn.manchesterhistory.org/wp-content/uploads/2026/01/23150914/ImageDeclarSteveFor6-14-26.jpg
END:VEVENT
END:VCALENDAR