BEGIN:VCALENDAR
VERSION:2.0
PRODID:-//Manchester Historical Society - ECPv6.15.20//NONSGML v1.0//EN
CALSCALE:GREGORIAN
METHOD:PUBLISH
X-ORIGINAL-URL:https://manchesterhistory.org
X-WR-CALDESC:Events for Manchester Historical Society
REFRESH-INTERVAL;VALUE=DURATION:PT1H
X-Robots-Tag:noindex
X-PUBLISHED-TTL:PT1H
BEGIN:VTIMEZONE
TZID:America/New_York
BEGIN:DAYLIGHT
TZOFFSETFROM:-0500
TZOFFSETTO:-0400
TZNAME:EDT
DTSTART:20230312T070000
END:DAYLIGHT
BEGIN:STANDARD
TZOFFSETFROM:-0400
TZOFFSETTO:-0500
TZNAME:EST
DTSTART:20231105T060000
END:STANDARD
BEGIN:DAYLIGHT
TZOFFSETFROM:-0500
TZOFFSETTO:-0400
TZNAME:EDT
DTSTART:20240310T070000
END:DAYLIGHT
BEGIN:STANDARD
TZOFFSETFROM:-0400
TZOFFSETTO:-0500
TZNAME:EST
DTSTART:20241103T060000
END:STANDARD
BEGIN:DAYLIGHT
TZOFFSETFROM:-0500
TZOFFSETTO:-0400
TZNAME:EDT
DTSTART:20250309T070000
END:DAYLIGHT
BEGIN:STANDARD
TZOFFSETFROM:-0400
TZOFFSETTO:-0500
TZNAME:EST
DTSTART:20251102T060000
END:STANDARD
END:VTIMEZONE
BEGIN:VEVENT
DTSTART;TZID=America/New_York:20240508T100000
DTEND;TZID=America/New_York:20240508T120000
DTSTAMP:20260424T180516
CREATED:20240418T015521Z
LAST-MODIFIED:20240418T183634Z
UID:5216-1715162400-1715169600@manchesterhistory.org
SUMMARY:Genealogy Group meeting\, all welcome
DESCRIPTION:The Historical Society’s Genealogy Group meets at the History Center\, 175 Pine Street — a meeting for both amateur and more experienced genealogists. This month\, welcoming genealogist Noreen Cullen\, who will walk through some online websites\, both free and paid\, that can be used for genealogy research. “We can also talk about various ethnicities of interest to the group’s participants. Then we can discuss in more detail the use of siblings of your direct-line ancestors\, to open up a path to go back another generation. Our plan is to project the websites onto a big screen\, so we can walk through the steps together. You are welcome to bring an ancestor’s name and dates of birth and death\, if known\, so we can explore research tactics\, as an example for the group. Finally\, we can do some searches on the escheated funds your ancestors may have left behind.” The Genealogy Group consists of Historical Society members\, but non-members are also welcome ($3.00 fee for non-members). The group usually meets on the second Wednesday of the month.
URL:https://manchesterhistory.org/event/genealogy-group-meeting-2-2/
LOCATION:Manchester History Center\, 175 Pine Street\, Manchester\, 06040\, United States
CATEGORIES:History Center
ATTACH;FMTTYPE=image/jpeg:https://cdn.manchesterhistory.org/wp-content/uploads/2024/01/28183754/Genealogy-Group.jpg
END:VEVENT
BEGIN:VEVENT
DTSTART;VALUE=DATE:20240516
DTEND;VALUE=DATE:20240715
DTSTAMP:20260424T180516
CREATED:20240516T114843Z
LAST-MODIFIED:20240521T212027Z
UID:5297-1715817600-1721001599@manchesterhistory.org
SUMMARY:Annual appeal for donations
DESCRIPTION:Please consider a donation to the annual fund to support the operations and mission of the Historical Society. A donation in any amount may be mailed to 175 Pine Street\, Manchester\, CT 06040. If you would like an annual appeal packet mailed to you\, please email newsletter@manchesterhistory.org with your home mailing address. Thank you! To read the letter and print out the form: AnnualAppeal2024.
URL:https://manchesterhistory.org/event/annual-appeal-for-donations/
LOCATION:Manchester History Center\, 175 Pine Street\, Manchester\, 06040\, United States
CATEGORIES:History Center
ATTACH;FMTTYPE=image/jpeg:https://cdn.manchesterhistory.org/wp-content/uploads/2024/05/16074336/AnnualAppealGrafix.jpg
ORGANIZER;CN="Susan Barlow":MAILTO:newsletter@manchesterhistory.org
END:VEVENT
BEGIN:VEVENT
DTSTART;TZID=America/New_York:20240519T130000
DTEND;TZID=America/New_York:20240519T143000
DTSTAMP:20260424T180516
CREATED:20240414T210811Z
LAST-MODIFIED:20240415T123354Z
UID:5100-1716123600-1716129000@manchesterhistory.org
SUMMARY:Presentation about Native Americans at Historical Society
DESCRIPTION:This third of three illustrated presentations will focus on King Philip’s War and its devastating consequences for the tribes of Southern New England\, including our local tribe\, the Podunks. The focus of the series has been: Who were the people who were already settled on the land when Europeans first arrived in Southern New England\, and where did they come from? How did they live before the Mayflower dropped anchor in Cape Cod Bay\, and what changed as the European population increased? Steve Penny will take us from our roots in Africa to the last we know of the Podunks: 60\,000 years of human activity in three illustrated presentations: Sundays at 1:00\, March 17\, April 14\, and May 19\, at the Manchester History Center\, 175 Pine Street. Free for members; $5 for non-members; free to children under 16. Parking available along Pleasant Street and in the small lot north of the building.
URL:https://manchesterhistory.org/event/presentation-about-native-americans-at-historical-society-2/
LOCATION:Manchester History Center\, 175 Pine Street\, Manchester\, 06040\, United States
CATEGORIES:History Center,Lectures/Presentations
ATTACH;FMTTYPE=image/jpeg:https://cdn.manchesterhistory.org/wp-content/uploads/2024/01/28183755/Native-American.jpg
END:VEVENT
END:VCALENDAR