BEGIN:VCALENDAR
VERSION:2.0
PRODID:-//Manchester Historical Society - ECPv6.15.20//NONSGML v1.0//EN
CALSCALE:GREGORIAN
METHOD:PUBLISH
X-ORIGINAL-URL:https://manchesterhistory.org
X-WR-CALDESC:Events for Manchester Historical Society
REFRESH-INTERVAL;VALUE=DURATION:PT1H
X-Robots-Tag:noindex
X-PUBLISHED-TTL:PT1H
BEGIN:VTIMEZONE
TZID:America/New_York
BEGIN:DAYLIGHT
TZOFFSETFROM:-0500
TZOFFSETTO:-0400
TZNAME:EDT
DTSTART:20230312T070000
END:DAYLIGHT
BEGIN:STANDARD
TZOFFSETFROM:-0400
TZOFFSETTO:-0500
TZNAME:EST
DTSTART:20231105T060000
END:STANDARD
BEGIN:DAYLIGHT
TZOFFSETFROM:-0500
TZOFFSETTO:-0400
TZNAME:EDT
DTSTART:20240310T070000
END:DAYLIGHT
BEGIN:STANDARD
TZOFFSETFROM:-0400
TZOFFSETTO:-0500
TZNAME:EST
DTSTART:20241103T060000
END:STANDARD
BEGIN:DAYLIGHT
TZOFFSETFROM:-0500
TZOFFSETTO:-0400
TZNAME:EDT
DTSTART:20250309T070000
END:DAYLIGHT
BEGIN:STANDARD
TZOFFSETFROM:-0400
TZOFFSETTO:-0500
TZNAME:EST
DTSTART:20251102T060000
END:STANDARD
BEGIN:DAYLIGHT
TZOFFSETFROM:-0500
TZOFFSETTO:-0400
TZNAME:EDT
DTSTART:20260308T070000
END:DAYLIGHT
BEGIN:STANDARD
TZOFFSETFROM:-0400
TZOFFSETTO:-0500
TZNAME:EST
DTSTART:20261101T060000
END:STANDARD
END:VTIMEZONE
BEGIN:VEVENT
DTSTART;TZID=America/New_York:20251207T110000
DTEND;TZID=America/New_York:20251207T150000
DTSTAMP:20260421T083227
CREATED:20251006T144509Z
LAST-MODIFIED:20251006T144509Z
UID:6365-1765105200-1765119600@manchesterhistory.org
SUMMARY:Holiday Open house\, day 2
DESCRIPTION:Very special open house at the 1785 Homestead\, decorated for the holidays by the Manchester Garden Club. Kick off the holidays with a glass of mulled cider\, and visit the exhibits\, furniture\, and artwork with the help of our volunteer guides. Parking available on the lawn (head-in please\, for maximum room). Free. Donations welcome.
URL:https://manchesterhistory.org/event/holiday-open-house-day-2/
LOCATION:Cheney Homestead\, 106 Hartford Road\, Manchester\, CT\, 06040\, United States
CATEGORIES:Cheney Homestead/Keeney Schoolhouse,Open House
ATTACH;FMTTYPE=image/jpeg:https://cdn.manchesterhistory.org/wp-content/uploads/2025/10/06103922/HomestHolid1201102011.jpg
ORGANIZER;CN="Susan Barlow":MAILTO:newsletter@manchesterhistory.org
END:VEVENT
BEGIN:VEVENT
DTSTART;TZID=America/New_York:20251206T110000
DTEND;TZID=America/New_York:20251206T150000
DTSTAMP:20260421T083227
CREATED:20251006T143955Z
LAST-MODIFIED:20251006T143955Z
UID:6362-1765018800-1765033200@manchesterhistory.org
SUMMARY:Holiday open houses at the Homestead
DESCRIPTION:Very special occasions at the 1785 Homestead\, decorated for the holidays by the Manchester Garden Club. Kick off the holidays with a glass of mulled cider\, and visit the exhibits\, furniture\, and artwork with the help of our volunteer guides. Parking available on the lawn (head-in please\, for maximum room). Think about a self-guided walking tour on the Saturday\, when you can add visits to the Old Manchester Museum at 126 Cedar Street (open 10:00 to 2:00) and the History Center at 175 Pine Street (open 12:00 to 4:00). Make it a hands-on history day. The Homestead’s Sunday opening also includes refreshments and holiday décor. Free. Donations welcome.
URL:https://manchesterhistory.org/event/holiday-open-houses-at-the-homestead/
LOCATION:Cheney Homestead\, 106 Hartford Road\, Manchester\, CT\, 06040\, United States
CATEGORIES:Cheney Homestead/Keeney Schoolhouse,Open House
ATTACH;FMTTYPE=image/jpeg:https://cdn.manchesterhistory.org/wp-content/uploads/2025/10/06103922/HomestHolid1201102011.jpg
ORGANIZER;CN="Susan Barlow":MAILTO:newsletter@manchesterhistory.org
END:VEVENT
BEGIN:VEVENT
DTSTART;TZID=America/New_York:20251005T130000
DTEND;TZID=America/New_York:20251005T160000
DTSTAMP:20260421T083227
CREATED:20250923T115825Z
LAST-MODIFIED:20250923T115825Z
UID:6356-1759669200-1759680000@manchesterhistory.org
SUMMARY:Cheney Homestead open house
DESCRIPTION:Visit the 1785 Homestead\, rich with history\, art\, furniture\, tools\, and kitchenware. This cozy house was the residence of Cheney family members from 1785 to the 1960s. The family donated the house and grounds to the Manchester Historical Society in 1968\, and it has been a house museum since then. Its usual open house schedule is 1:00 to 4:00 on the first and third Sunday of May through October\, except holidays. It’s also open by appointment\, 860-647-9983\, and for special events\, such as the December holiday open house. The Keeney schoolhouse\, also on the grounds\, is open in the warmer months. Come for 10 minutes or three hours! Free. Donations welcome. Always free to members.
URL:https://manchesterhistory.org/event/cheney-homestead-open-house-9/
LOCATION:Cheney Homestead\, 106 Hartford Road\, Manchester\, CT\, 06040\, United States
CATEGORIES:Cheney Homestead/Keeney Schoolhouse
ATTACH;FMTTYPE=image/jpeg:https://cdn.manchesterhistory.org/wp-content/uploads/2023/12/28183814/cheney-homestead.jpeg
ORGANIZER;CN="Susan Barlow":MAILTO:newsletter@manchesterhistory.org
END:VEVENT
BEGIN:VEVENT
DTSTART;TZID=America/New_York:20250921T130000
DTEND;TZID=America/New_York:20250921T160000
DTSTAMP:20260421T083227
CREATED:20250921T050018Z
LAST-MODIFIED:20250920T154340Z
UID:6285-1758459600-1758470400@manchesterhistory.org
SUMMARY:Cheney Homestead open house
DESCRIPTION:Visit the 1785 Homestead\, rich with history\, art\, furniture\, tools\, and kitchenware. This cozy house was the residence of Cheney family members from 1785 to the 1960s. The family donated the house and grounds to the Manchester Historical Society in 1968\, and it has been a house museum since then. Its usual open house schedule is 1:00 to 4:00 on the first and third Sunday of May through December\, except holidays. It’s also open by appointment\, 860-647-9983\, and for special events. The Keeney schoolhouse\, also on the grounds\, is open in the warmer months. Come for 10 minutes or three hours! Free. Donations welcome. Always free to members.
URL:https://manchesterhistory.org/event/cheney-homestead-open-house-7/
LOCATION:Cheney Homestead\, 106 Hartford Road\, Manchester\, CT\, 06040\, United States
CATEGORIES:Cheney Homestead/Keeney Schoolhouse
ATTACH;FMTTYPE=image/png:https://cdn.manchesterhistory.org/wp-content/uploads/2023/12/28183814/homestead1.jpg.png
ORGANIZER;CN="Susan Barlow":MAILTO:newsletter@manchesterhistory.org
END:VEVENT
BEGIN:VEVENT
DTSTART;TZID=America/New_York:20250921T130000
DTEND;TZID=America/New_York:20250921T130000
DTSTAMP:20260421T083227
CREATED:20250703T114717Z
LAST-MODIFIED:20250703T115756Z
UID:6278-1758459600-1758459600@manchesterhistory.org
SUMMARY:Cheney Homestead open house
DESCRIPTION:Visit the 1785 Homestead\, rich with history\, art\, furniture\, tools\, and kitchenware. This cozy house was the residence of Cheney family members from 1785 to the 1960s. The family donated the house and grounds to the Manchester Historical Society in 1968\, and it has been a house museum since then. Its usual open house schedule is 1:00 to 4:00 on the first and third Sunday of May through December\, except holidays. It’s also open by appointment\, 860-647-9983\, and for special events. The Keeney schoolhouse\, also on the grounds\, is open in the warmer months. Come for 10 minutes or three hours! Free. Donations welcome.
URL:https://manchesterhistory.org/event/cheney-homestead-open-house-2/
LOCATION:Cheney Homestead\, 106 Hartford Road\, Manchester\, CT\, 06040\, United States
CATEGORIES:Cheney Homestead/Keeney Schoolhouse
ATTACH;FMTTYPE=image/png:https://cdn.manchesterhistory.org/wp-content/uploads/2023/12/28183814/homestead1.jpg.png
ORGANIZER;CN="Susan Barlow":MAILTO:newsletter@manchesterhistory.org
END:VEVENT
BEGIN:VEVENT
DTSTART;TZID=America/New_York:20250817T130000
DTEND;TZID=America/New_York:20250817T130000
DTSTAMP:20260421T083227
CREATED:20250703T154018Z
LAST-MODIFIED:20250703T154018Z
UID:6283-1755435600-1755435600@manchesterhistory.org
SUMMARY:Cheney Homestead open house
DESCRIPTION:Visit the 1785 Homestead\, rich with history\, art\, furniture\, tools\, and kitchenware. This cozy house was the residence of Cheney family members from 1785 to the 1960s. The family donated the house and grounds to the Manchester Historical Society in 1968\, and it has been a house museum since then. Its usual open house schedule is 1:00 to 4:00 on the first and third Sunday of May through December\, except holidays. It’s also open by appointment\, 860-647-9983\, and for special events. The Keeney schoolhouse\, also on the grounds\, is open in the warmer months. Come for 10 minutes or three hours! Free. Donations welcome.
URL:https://manchesterhistory.org/event/cheney-homestead-open-house-3/
LOCATION:Cheney Homestead\, 106 Hartford Road\, Manchester\, CT\, 06040\, United States
CATEGORIES:Cheney Homestead/Keeney Schoolhouse
ATTACH;FMTTYPE=image/png:https://cdn.manchesterhistory.org/wp-content/uploads/2023/12/28183814/homestead1.jpg.png
ORGANIZER;CN="Susan Barlow":MAILTO:newsletter@manchesterhistory.org
END:VEVENT
BEGIN:VEVENT
DTSTART;TZID=America/New_York:20250803T130000
DTEND;TZID=America/New_York:20250803T160000
DTSTAMP:20260421T083227
CREATED:20250703T154329Z
LAST-MODIFIED:20250703T154329Z
UID:6282-1754226000-1754236800@manchesterhistory.org
SUMMARY:Cheney Homestead open house
DESCRIPTION:Visit the 1785 Homestead\, rich with history\, art\, furniture\, tools\, and kitchenware. This cozy house was the residence of Cheney family members from 1785 to the 1960s. The family donated the house and grounds to the Manchester Historical Society in 1968\, and it has been a house museum since then. Its usual open house schedule is 1:00 to 4:00 on the first and third Sunday of May through December\, except holidays. It’s also open by appointment\, 860-647-9983\, and for special events. The Keeney schoolhouse\, also on the grounds\, is open in the warmer months. Come for 10 minutes or three hours! Free. Donations welcome.
URL:https://manchesterhistory.org/event/cheney-homestead-open-house-5/
LOCATION:Cheney Homestead\, 106 Hartford Road\, Manchester\, CT\, 06040\, United States
CATEGORIES:Cheney Homestead/Keeney Schoolhouse
ATTACH;FMTTYPE=image/png:https://cdn.manchesterhistory.org/wp-content/uploads/2023/12/28183814/homestead1.jpg.png
ORGANIZER;CN="Susan Barlow":MAILTO:newsletter@manchesterhistory.org
END:VEVENT
BEGIN:VEVENT
DTSTART;TZID=America/New_York:20250720T130000
DTEND;TZID=America/New_York:20250720T160000
DTSTAMP:20260421T083227
CREATED:20250703T191923Z
LAST-MODIFIED:20250703T191923Z
UID:6281-1753016400-1753027200@manchesterhistory.org
SUMMARY:Cheney Homestead open house
DESCRIPTION:Visit the 1785 Homestead\, rich with history\, art\, furniture\, tools\, and kitchenware. This cozy house was the residence of Cheney family members from 1785 to the 1960s. The family donated the house and grounds to the Manchester Historical Society in 1968\, and it has been a house museum since then. Its usual open house schedule is 1:00 to 4:00 on the first and third Sunday of May through December\, except holidays. It’s also open by appointment\, 860-647-9983\, and for special events. The Keeney schoolhouse\, also on the grounds\, is open in the warmer months. Come for 10 minutes or three hours! Free. Donations welcome.
URL:https://manchesterhistory.org/event/cheney-homestead-open-house-6/
LOCATION:Cheney Homestead\, 106 Hartford Road\, Manchester\, CT\, 06040\, United States
CATEGORIES:Cheney Homestead/Keeney Schoolhouse
ATTACH;FMTTYPE=image/png:https://cdn.manchesterhistory.org/wp-content/uploads/2023/12/28183814/homestead1.jpg.png
ORGANIZER;CN="Susan Barlow":MAILTO:newsletter@manchesterhistory.org
END:VEVENT
BEGIN:VEVENT
DTSTART;TZID=America/New_York:20250706T130000
DTEND;TZID=America/New_York:20250706T160000
DTSTAMP:20260421T083227
CREATED:20250703T154246Z
LAST-MODIFIED:20250703T154246Z
UID:6280-1751806800-1751817600@manchesterhistory.org
SUMMARY:Cheney Homestead open house
DESCRIPTION:Visit the 1785 Homestead\, rich with history\, art\, furniture\, tools\, and kitchenware. This cozy house was the residence of Cheney family members from 1785 to the 1960s. The family donated the house and grounds to the Manchester Historical Society in 1968\, and it has been a house museum since then. Its usual open house schedule is 1:00 to 4:00 on the first and third Sunday of May through December\, except holidays. It’s also open by appointment\, 860-647-9983\, and for special events. The Keeney schoolhouse\, also on the grounds\, is open in the warmer months. Come for 10 minutes or three hours! Free. Donations welcome.
URL:https://manchesterhistory.org/event/cheney-homestead-open-house-4/
LOCATION:Cheney Homestead\, 106 Hartford Road\, Manchester\, CT\, 06040\, United States
CATEGORIES:Cheney Homestead/Keeney Schoolhouse
ATTACH;FMTTYPE=image/png:https://cdn.manchesterhistory.org/wp-content/uploads/2023/12/28183814/homestead1.jpg.png
ORGANIZER;CN="Susan Barlow":MAILTO:newsletter@manchesterhistory.org
END:VEVENT
BEGIN:VEVENT
DTSTART;TZID=America/New_York:20250614T110000
DTEND;TZID=America/New_York:20250614T150000
DTSTAMP:20260421T083227
CREATED:20250422T142039Z
LAST-MODIFIED:20250514T203332Z
UID:6147-1749898800-1749913200@manchesterhistory.org
SUMMARY:CT Open Museum Day
DESCRIPTION:Our properties will be open 11:00 to 3:00 on this special state-wide Open House Day. Visit the History Center at 175 Pine St.\, the Old Manchester Museum at 126 Cedar Street\,  the Cheney Homestead and Keeney Schoolhouse at 106 Hartford Road\, and the Woodbridge Farmstead at 495 East Middle Turnpike\, with decor by the Manchester Garden Club and music by Judy and Mark Handler starting at 1:00\, classical and folk. ALSO\, the Pitkin Glass Works at the corner of Pitkin and Putnam Streets\, South Methodist Church at 1266 Main Street (celebrating its building’s 100th anniversary)\, and the CT Fire Museum at 230 Pine Street will also be open. Free.
URL:https://manchesterhistory.org/event/ct-open-museum-day/
CATEGORIES:Cheney Homestead/Keeney Schoolhouse,History Center,Old Manchester Museum,Open House,Woodbridge Farmstead
ATTACH;FMTTYPE=image/jpeg:https://cdn.manchesterhistory.org/wp-content/uploads/2025/04/22173609/MuseumComposAll.jpg
ORGANIZER;CN="Susan Barlow":MAILTO:newsletter@manchesterhistory.org
END:VEVENT
BEGIN:VEVENT
DTSTART;TZID=America/New_York:20241208T130000
DTEND;TZID=America/New_York:20241208T160000
DTSTAMP:20260421T083227
CREATED:20241004T231849Z
LAST-MODIFIED:20241005T115625Z
UID:5872-1733662800-1733673600@manchesterhistory.org
SUMMARY:Cheney Homestead Open House
DESCRIPTION:Come for a visit to the 1785 Homestead\, rich with holiday decor\, artistically arranged by the Manchester Garden Club. Art\, furniture\, tools\, and kitchenware tell the story of this cozy house that was the residence of Cheney family members from 1785 to the 1960s. The family donated the house and grounds to the Manchester Historical Society in 1968\, and it has been a house museum since then. Its usual open house schedule is 1:00 to 4:00 on the second Sunday of each month except holidays\, and also by appointment and for special events. /$5 suggested donation.
URL:https://manchesterhistory.org/event/cheney-homestead-open-house/
LOCATION:Cheney Homestead\, 106 Hartford Road\, Manchester\, CT\, 06040\, United States
CATEGORIES:Cheney Homestead/Keeney Schoolhouse,Open House
ATTACH;FMTTYPE=image/jpeg:https://cdn.manchesterhistory.org/wp-content/uploads/2024/02/14103709/homestead1.jpg.jpg
END:VEVENT
BEGIN:VEVENT
DTSTART;TZID=America/New_York:20241201T130000
DTEND;TZID=America/New_York:20241201T160000
DTSTAMP:20260421T083227
CREATED:20241004T230847Z
LAST-MODIFIED:20241004T230847Z
UID:5870-1733058000-1733068800@manchesterhistory.org
SUMMARY:Cheney Homestead Special Holiday Open House
DESCRIPTION:Annual holiday open house with special decor by the Manchester Garden Club. View the 1785 Homestead at its holiday best! Art\, furniture\, tools\, and kitchenware tell the story of this cozy house that was the residence of Cheney family members from 1785 to the 1960s. Its usual open house schedule is 1:00 to 4:00 on the second Sunday of each month except holidays\, and also by appointment and for special events. /$5 suggested donation.
URL:https://manchesterhistory.org/event/cheney-homestead-special-holiday-open-house/
LOCATION:Cheney Homestead\, 106 Hartford Road\, Manchester\, CT\, 06040\, United States
CATEGORIES:Cheney Homestead/Keeney Schoolhouse,Open House
ATTACH;FMTTYPE=image/jpeg:https://cdn.manchesterhistory.org/wp-content/uploads/2024/02/03092059/cheney-homestead-1.jpg
END:VEVENT
BEGIN:VEVENT
DTSTART;TZID=America/New_York:20241026T093000
DTEND;TZID=America/New_York:20241026T160000
DTSTAMP:20260421T083227
CREATED:20241004T132855Z
LAST-MODIFIED:20241004T133528Z
UID:5862-1729935000-1729958400@manchesterhistory.org
SUMMARY:Cheney Homestead Open House - note date
DESCRIPTION:Due to the special town-wide house tour (fundraiser for the Sculpture Project)\, the Homestead will be open in October only on the 26th. It will be closed in November.  Its usual schedule is 1:00 to 4:00 on the second Sunday of each month except holidays\, and also by appointment and for special events. /$5 suggested donation.
URL:https://manchesterhistory.org/event/cheney-homestead-open-house-note-date/
LOCATION:Cheney Homestead\, 106 Hartford Road\, Manchester\, CT\, 06040\, United States
CATEGORIES:Cheney Homestead/Keeney Schoolhouse,Open House
ATTACH;FMTTYPE=image/jpeg:https://cdn.manchesterhistory.org/wp-content/uploads/2024/02/03092059/cheney-homestead-1.jpg
END:VEVENT
BEGIN:VEVENT
DTSTART;TZID=America/New_York:20240512T130000
DTEND;TZID=America/New_York:20240512T160000
DTSTAMP:20260421T083227
CREATED:20240228T141310Z
LAST-MODIFIED:20240303T211156Z
UID:4601-1715518800-1715529600@manchesterhistory.org
SUMMARY:Open House
DESCRIPTION:Usually open 1:00 to 4:00 on the second Sunday of each month except holidays\, and also by appointment and for special events. /$5 suggested donation.
URL:https://manchesterhistory.org/event/open-house-3-2/
LOCATION:Cheney Homestead\, 106 Hartford Road\, Manchester\, CT\, 06040\, United States
CATEGORIES:Cheney Homestead/Keeney Schoolhouse,Open House
ATTACH;FMTTYPE=image/jpeg:https://cdn.manchesterhistory.org/wp-content/uploads/2024/02/03092059/cheney-homestead-1.jpg
END:VEVENT
BEGIN:VEVENT
DTSTART;TZID=America/New_York:20240811T130000
DTEND;TZID=America/New_York:20240811T160000
DTSTAMP:20260421T083227
CREATED:20240621T224249Z
LAST-MODIFIED:20240621T224249Z
UID:5510-1723381200-1723392000@manchesterhistory.org
SUMMARY:Open House
DESCRIPTION:Usually open 1:00 to 4:00 on the second Sunday of each month except holidays\, and also by appointment and for special events. /$5 suggested donation. Jamie Donahue will present “Back to School\,” at 2:00 p.m.
URL:https://manchesterhistory.org/event/open-house-3-2-2/
LOCATION:Cheney Homestead\, 106 Hartford Road\, Manchester\, CT\, 06040\, United States
CATEGORIES:Cheney Homestead/Keeney Schoolhouse,Open House
ATTACH;FMTTYPE=image/jpeg:https://cdn.manchesterhistory.org/wp-content/uploads/2024/02/03092059/cheney-homestead-1.jpg
END:VEVENT
BEGIN:VEVENT
DTSTART;TZID=America/New_York:20240512T130000
DTEND;TZID=America/New_York:20240512T160000
DTSTAMP:20260421T083227
CREATED:20240228T141310Z
LAST-MODIFIED:20240303T211156Z
UID:4601-1715518800-1715529600@manchesterhistory.org
SUMMARY:Open House
DESCRIPTION:Usually open 1:00 to 4:00 on the second Sunday of each month except holidays\, and also by appointment and for special events. /$5 suggested donation.
URL:https://manchesterhistory.org/event/open-house-3-2/
LOCATION:Cheney Homestead\, 106 Hartford Road\, Manchester\, CT\, 06040\, United States
CATEGORIES:Cheney Homestead/Keeney Schoolhouse,Open House
ATTACH;FMTTYPE=image/jpeg:https://cdn.manchesterhistory.org/wp-content/uploads/2024/02/03092059/cheney-homestead-1.jpg
END:VEVENT
BEGIN:VEVENT
DTSTART;TZID=America/New_York:20240608T110000
DTEND;TZID=America/New_York:20240608T150000
DTSTAMP:20260421T083227
CREATED:20240228T142852Z
LAST-MODIFIED:20240411T212837Z
UID:4604-1717844400-1717858800@manchesterhistory.org
SUMMARY:Open Museum Day 6 places to visit in Manchester
DESCRIPTION:Our Society properties and two others: \n\nCheney Homestead open 11 to 3 at 106 Hartford Road.\nOld Manchester Museum open 10:00 to 2:00 at 126 Cedar Street.\nHistory Center open 11 to 3 at 175 Pine Street.\nWoodbridge Farmstead open 11:00 to 3:00 at 495 East Middle Turnpike.\nCT Firemen’s Historical Society Museum\, 230 Pine Street\nPitkin Glassworks\, open 11:00 to 3:00\, 22 Pitkin Street at intersection of Putnam and Parker Streets.
URL:https://manchesterhistory.org/event/open-museum-day/
LOCATION:Cheney Homestead\, 106 Hartford Road\, Manchester\, CT\, 06040\, United States
CATEGORIES:Cheney Homestead/Keeney Schoolhouse,History Center,Old Manchester Museum,Open House,Woodbridge Farmstead
ATTACH;FMTTYPE=image/jpeg:https://cdn.manchesterhistory.org/wp-content/uploads/2024/02/11172040/MuseumComposite.jpg
ORGANIZER;CN="Susan Barlow":MAILTO:newsletter@manchesterhistory.org
END:VEVENT
BEGIN:VEVENT
DTSTART;TZID=America/New_York:20240512T130000
DTEND;TZID=America/New_York:20240512T160000
DTSTAMP:20260421T083227
CREATED:20240228T141310Z
LAST-MODIFIED:20240303T211156Z
UID:4601-1715518800-1715529600@manchesterhistory.org
SUMMARY:Open House
DESCRIPTION:Usually open 1:00 to 4:00 on the second Sunday of each month except holidays\, and also by appointment and for special events. /$5 suggested donation.
URL:https://manchesterhistory.org/event/open-house-3-2/
LOCATION:Cheney Homestead\, 106 Hartford Road\, Manchester\, CT\, 06040\, United States
CATEGORIES:Cheney Homestead/Keeney Schoolhouse,Open House
ATTACH;FMTTYPE=image/jpeg:https://cdn.manchesterhistory.org/wp-content/uploads/2024/02/03092059/cheney-homestead-1.jpg
END:VEVENT
BEGIN:VEVENT
DTSTART;TZID=America/New_York:20240211T130000
DTEND;TZID=America/New_York:20240211T160000
DTSTAMP:20260421T083227
CREATED:20240203T141121Z
LAST-MODIFIED:20240203T142149Z
UID:4084-1707656400-1707667200@manchesterhistory.org
SUMMARY:Open House!
DESCRIPTION:Usually open 1:00 to 4:00 on the second Sunday of each month except holidays\, and also by appointment and for special events.
URL:https://manchesterhistory.org/event/open-house-3/
LOCATION:Cheney Homestead\, 106 Hartford Road\, Manchester\, CT\, 06040\, United States
CATEGORIES:Cheney Homestead/Keeney Schoolhouse,Open House
ATTACH;FMTTYPE=image/jpeg:https://cdn.manchesterhistory.org/wp-content/uploads/2024/02/03092059/cheney-homestead-1.jpg
END:VEVENT
END:VCALENDAR